BEGIN:VCALENDAR
PRODID:-//eluceo/ical//2.0/EN
VERSION:2.0
CALSCALE:GREGORIAN
BEGIN:VEVENT
UID:event-371
DTSTAMP:20260423T141831Z
SUMMARY:JFV Tourrally XXII
DESCRIPTION:🏁'Laat de motor luiden\, op weg naar het zuiden' 🚘 Samen 
 met @osborneclarke zetten we koers naar het zuiden\, waar Limburg ons verw
 elkomt met haar heuvels\, mooiste stukken natuur en de onmisbare vlaai. Tr
 ek uw mooiste outfit aan en zorg dat uw auto er verzorgd bij staat. De JFV
  Nijmegen tourrally behoort ieder jaar tot de absolute hoogtepunten van de
  vereniging en staat garant voor een unieke combinatie van rijden\, sfeer 
 en beleving die u nog lang bij zal blijven. We sluiten de dag in stijl af 
 met een diner bij Landgoed Brakkesteyn\, waar we samen terugblikken op een
  onvergetelijke dag.  Datum rally: 8 mei 2026  Kosten: €47\,50 (incl. 
 lunch &amp\; diner) let op: Uw dient zelf te zorgen voor uw auto en de sam
 enstelling van de inzittende van deze auto
DTSTART:20260508T073000Z
DTEND:20260508T210000Z
END:VEVENT
BEGIN:VTIMEZONE
TZID:UTC
BEGIN:STANDARD
DTSTART:20260508T073000
TZNAME:UTC
TZOFFSETTO:+0000
TZOFFSETFROM:+0000
END:STANDARD
END:VTIMEZONE
END:VCALENDAR
